BEGIN:VCALENDAR
VERSION:2.0
PRODID:-//Wiprecht-Gymnasium Groitzsch - ECPv6.15.20//NONSGML v1.0//EN
CALSCALE:GREGORIAN
METHOD:PUBLISH
X-WR-CALNAME:Wiprecht-Gymnasium Groitzsch
X-ORIGINAL-URL:https://www.wiprecht-gymnasium.de
X-WR-CALDESC:Veranstaltungen für Wiprecht-Gymnasium Groitzsch
REFRESH-INTERVAL;VALUE=DURATION:PT1H
X-Robots-Tag:noindex
X-PUBLISHED-TTL:PT1H
BEGIN:VTIMEZONE
TZID:Europe/Berlin
BEGIN:DAYLIGHT
TZOFFSETFROM:+0100
TZOFFSETTO:+0200
TZNAME:CEST
DTSTART:20250330T010000
END:DAYLIGHT
BEGIN:STANDARD
TZOFFSETFROM:+0200
TZOFFSETTO:+0100
TZNAME:CET
DTSTART:20251026T010000
END:STANDARD
BEGIN:DAYLIGHT
TZOFFSETFROM:+0100
TZOFFSETTO:+0200
TZNAME:CEST
DTSTART:20260329T010000
END:DAYLIGHT
BEGIN:STANDARD
TZOFFSETFROM:+0200
TZOFFSETTO:+0100
TZNAME:CET
DTSTART:20261025T010000
END:STANDARD
BEGIN:DAYLIGHT
TZOFFSETFROM:+0100
TZOFFSETTO:+0200
TZNAME:CEST
DTSTART:20270328T010000
END:DAYLIGHT
BEGIN:STANDARD
TZOFFSETFROM:+0200
TZOFFSETTO:+0100
TZNAME:CET
DTSTART:20271031T010000
END:STANDARD
END:VTIMEZONE
BEGIN:VEVENT
DTSTART;TZID=Europe/Berlin:20260526T143000
DTEND;TZID=Europe/Berlin:20260526T160000
DTSTAMP:20260424T035952
CREATED:20260413T142106Z
LAST-MODIFIED:20260413T142306Z
UID:6207-1779805800-1779811200@www.wiprecht-gymnasium.de
SUMMARY:AG Klimaschule
DESCRIPTION:Raum 014
URL:https://www.wiprecht-gymnasium.de/event/ag-klimaschule/
CATEGORIES:AG Klimaschule,Ag-Treffen
END:VEVENT
BEGIN:VEVENT
DTSTART;TZID=Europe/Berlin:20260609T180000
DTEND;TZID=Europe/Berlin:20260609T200000
DTSTAMP:20260424T035952
CREATED:20260121T073347Z
LAST-MODIFIED:20260121T073531Z
UID:6128-1781028000-1781035200@www.wiprecht-gymnasium.de
SUMMARY:0. Elternabend künftige Klassenstufe 5 im Schuljahr 2026/2027
DESCRIPTION:Wir laden alle Sorgeberechtigten unserer zukünftigen Fünftklässler im Schuljahr 2026/2027 zum 0. Elternabend in die Aula des Gymnasiums ein.
URL:https://www.wiprecht-gymnasium.de/event/0-elternabend-kuenftige-klassenstufe-5/
END:VEVENT
END:VCALENDAR